BEGIN:VCALENDAR
VERSION:2.0
PRODID:-//Palmerston Marlins - ECPv6.15.20//NONSGML v1.0//EN
CALSCALE:GREGORIAN
METHOD:PUBLISH
X-WR-CALNAME:Palmerston Marlins
X-ORIGINAL-URL:https://palmerstonmarlins.com
X-WR-CALDESC:Events for Palmerston Marlins
REFRESH-INTERVAL;VALUE=DURATION:PT1H
X-Robots-Tag:noindex
X-PUBLISHED-TTL:PT1H
BEGIN:VTIMEZONE
TZID:UTC
BEGIN:STANDARD
TZOFFSETFROM:+0000
TZOFFSETTO:+0000
TZNAME:UTC
DTSTART:20250101T000000
END:STANDARD
END:VTIMEZONE
BEGIN:VEVENT
DTSTART;TZID=UTC:20260420T180000
DTEND;TZID=UTC:20260420T200000
DTSTAMP:20260420T072401
CREATED:20260106T213817Z
LAST-MODIFIED:20260106T213817Z
UID:10156-1776708000-1776715200@palmerstonmarlins.com
SUMMARY:U11 Gym Practice @ Minto Clifford Public School
DESCRIPTION:
URL:https://palmerstonmarlins.com/event/u11-gym-practice-minto-clifford-public-school-13/
LOCATION:Minto Clifford Public School\, 5804 ON-89\, Harriston\, Ontario\, N0G1Z0\, Canada
CATEGORIES:U11 Gym Practice
END:VEVENT
BEGIN:VEVENT
DTSTART;TZID=UTC:20260420T183000
DTEND;TZID=UTC:20260420T203000
DTSTAMP:20260420T072401
CREATED:20260106T213717Z
LAST-MODIFIED:20260106T213717Z
UID:10141-1776709800-1776717000@palmerstonmarlins.com
SUMMARY:U15 Teal Gym Practice @ Palmerston Public School
DESCRIPTION:
URL:https://palmerstonmarlins.com/event/u15-teal-gym-practice-palmerston-public-school-13/
LOCATION:Palmerston Public School\, 530 Prospect Street\, Palmerston\, Ontario\, N0G2P0\, Canada
CATEGORIES:U15 Teal Gym Practice
END:VEVENT
BEGIN:VEVENT
DTSTART;TZID=UTC:20260420T190000
DTEND;TZID=UTC:20260420T210000
DTSTAMP:20260420T072401
CREATED:20260106T213939Z
LAST-MODIFIED:20260115T150824Z
UID:10198-1776711600-1776718800@palmerstonmarlins.com
SUMMARY:U17 Teal Gym Practice @ Victoria Cross Public School
DESCRIPTION:
URL:https://palmerstonmarlins.com/event/u17-teal-gym-practice-victoria-cross-public-school-13/
LOCATION:Victoria Cross Public School\, 355 Durham St W\, Mount Forest\, Ontario\, N0G2L1\, Canada
CATEGORIES:U17 Teal Gym Practice
END:VEVENT
END:VCALENDAR